BEGIN:VCALENDAR
VERSION:2.0
PRODID:-//Digital Accessibility - ECPv5.9.0//NONSGML v1.0//EN
CALSCALE:GREGORIAN
METHOD:PUBLISH
X-WR-CALNAME:Digital Accessibility
X-ORIGINAL-URL:https://wsu.edu/digital-accessibility
X-WR-CALDESC:Events for Digital Accessibility
BEGIN:VTIMEZONE
TZID:America/Los_Angeles
BEGIN:DAYLIGHT
TZOFFSETFROM:-0800
TZOFFSETTO:-0700
TZNAME:PDT
DTSTART:20240310T100000
END:DAYLIGHT
BEGIN:STANDARD
TZOFFSETFROM:-0700
TZOFFSETTO:-0800
TZNAME:PST
DTSTART:20241103T090000
END:STANDARD
BEGIN:DAYLIGHT
TZOFFSETFROM:-0800
TZOFFSETTO:-0700
TZNAME:PDT
DTSTART:20250309T100000
END:DAYLIGHT
BEGIN:STANDARD
TZOFFSETFROM:-0700
TZOFFSETTO:-0800
TZNAME:PST
DTSTART:20251102T090000
END:STANDARD
END:VTIMEZONE
BEGIN:VEVENT
DTSTART;VALUE=DATE:20251015
DTEND;VALUE=DATE:20251017
DTSTAMP:20260424T013508
CREATED:20250908T181400Z
LAST-MODIFIED:20251117T185808Z
UID:3128-1760486400-1760659199@wsu.edu
SUMMARY:WordPress Accessibility Day 2025
DESCRIPTION:WordPress Accessibility Day is a 24-hour global event dedicated to promoting and learning website accessibility best practices for WordPress websites. \nSuggested Sessions\nSee the Schedule for session details. \nOctober 15\, 2025\n\nAudio Accessibility in WordPress\n1:00 PM America/Los_Angeles\nWhy Accessibility Matters: From A Blind/Visually Impaired Perspective\n3:00 PM America/Los_Angeles\nDemystifying Screen Readers: Your Guided Intro to Manual Accessibility Testing for WordPress Sites\n7:00 PM America/Los_Angeles\n\nOctober 16\, 2025\n\nAccessibility Isn’t Extra Work. It’s Risk Management.\n1:00 AM America/Los_Angeles\nThe Art of Accessibility: Making Documents Delightfully Inclusive\n2:00 AM America/Los_Angeles\nA “Game”-Changing Approach to Accessibility Education\n4:00 AM America/Los_Angeles\nBuild for Everyone or Build for No One\n7:00 AM America/Los_Angelest
URL:https://wsu.edu/digital-accessibility/event/wordpress-accessibility-day-2025/
LOCATION:Webinar
CATEGORIES:Announcement
END:VEVENT
BEGIN:VEVENT
DTSTART;TZID=America/Los_Angeles:20250916T090000
DTEND;TZID=America/Los_Angeles:20250917T140000
DTSTAMP:20260424T013508
CREATED:20250908T174533Z
LAST-MODIFIED:20251117T185808Z
UID:3126-1758013200-1758117600@wsu.edu
SUMMARY:Web Accessibility in Mind Conference
DESCRIPTION:This virtual conference will provide conference participants with content that will help them mature their practice in digital accessibility. \nAll sessions will be streamed live with live captioning and ASL interpretation. Sessions will be recorded and made available after the conference. \nSuggestion sessions\nSee the schedule for the “Join this session” link. \n\nCreating Accessible Documents and Slides: Microsoft\, Google\, and Canva\nTuesday\, September 16 at 11:45 AM Pacific Time\nAI and alt text\nWednesday\, September 17 at 9:15 AM Pacific Time\nNever Delegate Understanding: Foundations of Digital Accessibility\nWednesday\, September 17 at 10:30 AM Pacific Time
URL:https://wsu.edu/digital-accessibility/event/web-accessibility-in-mind-conference/
LOCATION:Webinar
CATEGORIES:Announcement
END:VEVENT
BEGIN:VEVENT
DTSTART;TZID=America/Los_Angeles:20240723T100000
DTEND;TZID=America/Los_Angeles:20240723T230000
DTSTAMP:20260424T013508
CREATED:20240701T142223Z
LAST-MODIFIED:20251117T185810Z
UID:2270-1721728800-1721775600@wsu.edu
SUMMARY:Pope Tech Accessible Documents Webinar
DESCRIPTION:George Joeckel\, Online Training Program Manager at WebAIM\, shares some fundamental principles and processes for accessible documents that WebAIM has taught to over 8\,000 trainees since 2018. The training covers headings in Word\, slide titles in PowerPoint\, sheet names in Excel\, alt text\, and exporting to PDF. \nEvent Registration
URL:https://wsu.edu/digital-accessibility/event/pope-tech-accessible-documents-webinar/
LOCATION:Webinar
CATEGORIES:Announcement
END:VEVENT
END:VCALENDAR