BEGIN:VCALENDAR
VERSION:2.0
PRODID:-//Digital Accessibility - ECPv5.9.0//NONSGML v1.0//EN
CALSCALE:GREGORIAN
METHOD:PUBLISH
X-WR-CALNAME:Digital Accessibility
X-ORIGINAL-URL:https://wsu.edu/digital-accessibility
X-WR-CALDESC:Events for Digital Accessibility
BEGIN:VTIMEZONE
TZID:America/Los_Angeles
BEGIN:DAYLIGHT
TZOFFSETFROM:-0800
TZOFFSETTO:-0700
TZNAME:PDT
DTSTART:20260308T100000
END:DAYLIGHT
BEGIN:STANDARD
TZOFFSETFROM:-0700
TZOFFSETTO:-0800
TZNAME:PST
DTSTART:20261101T090000
END:STANDARD
END:VTIMEZONE
BEGIN:VEVENT
DTSTART;TZID=America/Los_Angeles:20260107T100000
DTEND;TZID=America/Los_Angeles:20260107T110000
DTSTAMP:20260420T020520
CREATED:20251215T165011Z
LAST-MODIFIED:20251215T165144Z
UID:3767-1767780000-1767783600@wsu.edu
SUMMARY:Creating Accessible Online Content (Social Media)
DESCRIPTION:We will share tips for making social media posts accessible to everyone. We will also talk about the Web Content Accessibility Guidelines (WCAG). \nMore than 70% of Americans use social media to get news and information\, stay connected with friends\, or for fun. This webinar will present best practices for creating accessible content for social media posts\, images\, and videos. \nEvent information and registration
URL:https://wsu.edu/digital-accessibility/event/creating-accessible-online-content-social-media/
LOCATION:Webinar
CATEGORIES:Announcement
END:VEVENT
END:VCALENDAR