BEGIN:VCALENDAR
VERSION:2.0
PRODID:-//Digital Accessibility - ECPv5.9.0//NONSGML v1.0//EN
CALSCALE:GREGORIAN
METHOD:PUBLISH
X-WR-CALNAME:Digital Accessibility
X-ORIGINAL-URL:https://wsu.edu/digital-accessibility
X-WR-CALDESC:Events for Digital Accessibility
BEGIN:VTIMEZONE
TZID:America/Los_Angeles
BEGIN:DAYLIGHT
TZOFFSETFROM:-0800
TZOFFSETTO:-0700
TZNAME:PDT
DTSTART:20260308T100000
END:DAYLIGHT
BEGIN:STANDARD
TZOFFSETFROM:-0700
TZOFFSETTO:-0800
TZNAME:PST
DTSTART:20261101T090000
END:STANDARD
END:VTIMEZONE
BEGIN:VEVENT
DTSTART;TZID=America/Los_Angeles:20260212T093000
DTEND;TZID=America/Los_Angeles:20260212T110000
DTSTAMP:20260420T020251
CREATED:20260206T051541Z
LAST-MODIFIED:20260206T052401Z
UID:3878-1770888600-1770894000@wsu.edu
SUMMARY:Web Accessibility Open Lab February 2026 | WSU Web Communication
DESCRIPTION:A once-a-month Open Lab focusing on Web Accessibility by WSU Web Communication. All are welcome to attend.\nBring your web accessibility questions\, problems\, or glitches\, and share what you’ve been working on. Feel free to listen in. \nEvent information and zoom link
URL:https://wsu.edu/digital-accessibility/event/web-accessibility-open-lab-february-2026-wsu-web-communication/
LOCATION:Webinar
CATEGORIES:Announcement
END:VEVENT
BEGIN:VEVENT
DTSTART;TZID=America/Los_Angeles:20260217T080000
DTEND;TZID=America/Los_Angeles:20260217T090000
DTSTAMP:20260420T020251
CREATED:20260206T045616Z
LAST-MODIFIED:20260206T045616Z
UID:3870-1771315200-1771318800@wsu.edu
SUMMARY:Making Digital Documents Accessible: Practical Steps for Inclusive Design
DESCRIPTION:Samantha Merrett will walk you through how to create digital documents that are truly accessible\, sharing practical tips and hands-on guidance you can use right away. You’ll leave with a clearer understanding of how to meet global accessibility requirements while making your documents easier for everyone to read\, navigate\, and use. \nEvent information and registration \n 
URL:https://wsu.edu/digital-accessibility/event/making-digital-documents-accessible-practical-steps-for-inclusive-design/
LOCATION:Webinar
CATEGORIES:Announcement
END:VEVENT
BEGIN:VEVENT
DTSTART;TZID=America/Los_Angeles:20260224T060000
DTEND;TZID=America/Los_Angeles:20260225T120000
DTSTAMP:20260420T020251
CREATED:20260206T044800Z
LAST-MODIFIED:20260220T173105Z
UID:3868-1771912800-1772020800@wsu.edu
SUMMARY:Accelerating Digital Accessibility | axe-con 2026
DESCRIPTION:Join fellow developers\, designers\, business users\, and accessibility professionals of all experience levels as we rally to advance digital accessibility programs everywhere. You will learn the latest trends in tech\, global compliance\, and more as we focus on building\, testing\, and delivering accessible digital experiences. \nFree Registration \nRecommended Sessions\nAgenda \nTuesday\, February 24\n\nMore Practical Strategies for Accessible Design (Part Two) Tuesday\, February 24 at 10:00 am\n\nPart 1: Practical Strategies for Accessible Design from axe-con 2025\n\n\nProving Progress: The Metrics Behind Sustainable Accessibility Tuesday\, February 24 at 11:00 am\nIgniting the Spark: Building Accessibility Influence From the Bottom Up Tuesday\, February 24 at 11:00 am\nThe Myth of Neutral Design: How Accessibility Gets Lost in Objective Systems Tuesday\, February 24 at 12:00 pm\nShifting left: Building an Ecosystem to Scale Accessibility Tuesday\, February 24 at 12:00 pm\nThe Accessible Design Specialists Playbook Tuesday\, February 24 at 12:00 pm\n\nWednesday\, February 25\n\nHow to Convince People to Care and Invest in Accessibility Wednesday\, February 25 at 6:00 am\nBuilding a Stronger\, More Innovative Accessibility Community Wednesday\, February 25 at 7:00 am\nBetter Together: UX and Accessibility in Action Wednesday\, February 25 at 9:00 am\nADA Title II: Panel Discussion Wednesday\, February 25 at 10:00 am\nThe Accessibility Impostors Game Show Wednesday\, February 25 at 10:00 am\nTesting web experiences with your keyboard Wednesday\, February 25 at 11:00 am\nNever Judge a PDF by Its Cover Layer Wednesday\, February 25 at 12:00 pm\nChanging the World Through Procurement Accessibility Wednesday\, February 25 at 12:00 pm\nCSAT as a Tool for Accessibility Insights: Lessons from Arizona State University Wednesday\, February 25 at 12:00 pm\n\n 
URL:https://wsu.edu/digital-accessibility/event/accelerating-digital-accessibility-axe-con-2026/
LOCATION:Webinar
CATEGORIES:Announcement
END:VEVENT
END:VCALENDAR