BEGIN:VCALENDAR
VERSION:2.0
PRODID:-//Digital Accessibility - ECPv5.9.0//NONSGML v1.0//EN
CALSCALE:GREGORIAN
METHOD:PUBLISH
X-WR-CALNAME:Digital Accessibility
X-ORIGINAL-URL:https://wsu.edu/digital-accessibility
X-WR-CALDESC:Events for Digital Accessibility
BEGIN:VTIMEZONE
TZID:America/Los_Angeles
BEGIN:DAYLIGHT
TZOFFSETFROM:-0800
TZOFFSETTO:-0700
TZNAME:PDT
DTSTART:20260308T100000
END:DAYLIGHT
BEGIN:STANDARD
TZOFFSETFROM:-0700
TZOFFSETTO:-0800
TZNAME:PST
DTSTART:20261101T090000
END:STANDARD
END:VTIMEZONE
BEGIN:VEVENT
DTSTART;TZID=America/Los_Angeles:20260107T100000
DTEND;TZID=America/Los_Angeles:20260107T110000
DTSTAMP:20260421T075756
CREATED:20251215T165011Z
LAST-MODIFIED:20251215T165144Z
UID:3767-1767780000-1767783600@wsu.edu
SUMMARY:Creating Accessible Online Content (Social Media)
DESCRIPTION:We will share tips for making social media posts accessible to everyone. We will also talk about the Web Content Accessibility Guidelines (WCAG). \nMore than 70% of Americans use social media to get news and information\, stay connected with friends\, or for fun. This webinar will present best practices for creating accessible content for social media posts\, images\, and videos. \nEvent information and registration
URL:https://wsu.edu/digital-accessibility/event/creating-accessible-online-content-social-media/
LOCATION:Webinar
CATEGORIES:Announcement
END:VEVENT
BEGIN:VEVENT
DTSTART;TZID=America/Los_Angeles:20260108T080000
DTEND;TZID=America/Los_Angeles:20260108T090000
DTSTAMP:20260421T075756
CREATED:20251211T204303Z
LAST-MODIFIED:20260106T190410Z
UID:3757-1767859200-1767862800@wsu.edu
SUMMARY:Introduction to the Screen Reader Ropes Course
DESCRIPTION:Demystifying Screen Reader Use for Manual Testing: Deneb Pulsipher and Kosi Asabere\nAccessibility professionals all know screen reader testing is important\, but the barrier to entry is fairly high: before you can test with a screen reader\, you have to know how to use a screen reader. Wrapping your mind around all those keystrokes and what they do can be difficult. In this webinar we’ll break it down for you\, and show you how to use the free screen reader of your choice to go through our Screen Reader Ropes Course\, which\, by the way\, you should return to again and again to practice. \nEvent information and registration
URL:https://wsu.edu/digital-accessibility/event/introduction-to-the-screen-reader-ropes-course/
LOCATION:Webinar
CATEGORIES:Announcement
END:VEVENT
BEGIN:VEVENT
DTSTART;TZID=America/Los_Angeles:20260115T090000
DTEND;TZID=America/Los_Angeles:20260115T103000
DTSTAMP:20260421T075756
CREATED:20260106T190101Z
LAST-MODIFIED:20260108T171541Z
UID:3777-1768467600-1768473000@wsu.edu
SUMMARY:Web Accessibility Open Lab January 2026 | WSU Web Communication
DESCRIPTION:A once-a-month Open Lab focusing on Web Accessibility by WSU Web Communication. All are welcome to attend.\nBring your web accessibility questions\, problems\, or glitches\, and share what you’ve been working on. Feel free to listen in. \nEvent information and zoom link
URL:https://wsu.edu/digital-accessibility/event/web-accessibility-open-lab-january-2026-web-communication/
LOCATION:Webinar
CATEGORIES:Announcement
END:VEVENT
BEGIN:VEVENT
DTSTART;TZID=America/Los_Angeles:20260115T110000
DTEND;TZID=America/Los_Angeles:20260115T123000
DTSTAMP:20260421T075756
CREATED:20260106T185821Z
LAST-MODIFIED:20260106T190159Z
UID:3775-1768474800-1768480200@wsu.edu
SUMMARY:Building Better Documents - Usable to All
DESCRIPTION:This session walks through how to design\, test\, and remediate digital documents so they’re usable with assistive technology and aligned with the new ADA Title II technical standard\, WCAG 2.1 AA. We’ll cover accessibility basics in Word\, PowerPoint\, and Canva (headings\, styles\, color contrast\, typography\, alt text\, links\, tables\, reading order)\, how to export and repair tagged PDFs in Acrobat\, and what to do about scanned documents and forms. We’ll end by unpacking the WCAG 2.1 AA compliance deadlines\, key exceptions\, and what they really mean for your existing files so you know exactly where to start cleaning up your digital document library. \nEvent information and registration
URL:https://wsu.edu/digital-accessibility/event/building-better-documents-usable-to-all/
LOCATION:Webinar
CATEGORIES:Announcement
END:VEVENT
BEGIN:VEVENT
DTSTART;TZID=America/Los_Angeles:20260121T070000
DTEND;TZID=America/Los_Angeles:20260121T080000
DTSTAMP:20260421T075756
CREATED:20260108T172206Z
LAST-MODIFIED:20260108T172303Z
UID:3788-1768978800-1768982400@wsu.edu
SUMMARY:Designing Accessible PowerPoint Presentations
DESCRIPTION:This session explores key accessibility practices such as reading order\, alternative text\, and slide structure to ensure every person can engage with your visual content. Participants will learn to identify accessibility tools in Microsoft PowerPoint and how to use them. \nEvent information and registration
URL:https://wsu.edu/digital-accessibility/event/designing-accessible-powerpoint-presentations/
LOCATION:Webinar
CATEGORIES:Announcement
END:VEVENT
END:VCALENDAR