BEGIN:VCALENDAR
VERSION:2.0
PRODID:-//Digital Accessibility - ECPv5.9.0//NONSGML v1.0//EN
CALSCALE:GREGORIAN
METHOD:PUBLISH
X-WR-CALNAME:Digital Accessibility
X-ORIGINAL-URL:https://wsu.edu/digital-accessibility
X-WR-CALDESC:Events for Digital Accessibility
BEGIN:VTIMEZONE
TZID:America/Los_Angeles
BEGIN:DAYLIGHT
TZOFFSETFROM:-0800
TZOFFSETTO:-0700
TZNAME:PDT
DTSTART:20260308T100000
END:DAYLIGHT
BEGIN:STANDARD
TZOFFSETFROM:-0700
TZOFFSETTO:-0800
TZNAME:PST
DTSTART:20261101T090000
END:STANDARD
END:VTIMEZONE
BEGIN:VEVENT
DTSTART;TZID=America/Los_Angeles:20260115T090000
DTEND;TZID=America/Los_Angeles:20260115T103000
DTSTAMP:20260421T073022
CREATED:20260106T190101Z
LAST-MODIFIED:20260108T171541Z
UID:3777-1768467600-1768473000@wsu.edu
SUMMARY:Web Accessibility Open Lab January 2026 | WSU Web Communication
DESCRIPTION:A once-a-month Open Lab focusing on Web Accessibility by WSU Web Communication. All are welcome to attend.\nBring your web accessibility questions\, problems\, or glitches\, and share what you’ve been working on. Feel free to listen in. \nEvent information and zoom link
URL:https://wsu.edu/digital-accessibility/event/web-accessibility-open-lab-january-2026-web-communication/
LOCATION:Webinar
CATEGORIES:Announcement
END:VEVENT
END:VCALENDAR