BEGIN:VCALENDAR
VERSION:2.0
PRODID:-//Digital Accessibility - ECPv5.9.0//NONSGML v1.0//EN
CALSCALE:GREGORIAN
METHOD:PUBLISH
X-WR-CALNAME:Digital Accessibility
X-ORIGINAL-URL:https://wsu.edu/digital-accessibility
X-WR-CALDESC:Events for Digital Accessibility
BEGIN:VTIMEZONE
TZID:America/Los_Angeles
BEGIN:DAYLIGHT
TZOFFSETFROM:-0800
TZOFFSETTO:-0700
TZNAME:PDT
DTSTART:20250309T100000
END:DAYLIGHT
BEGIN:STANDARD
TZOFFSETFROM:-0700
TZOFFSETTO:-0800
TZNAME:PST
DTSTART:20251102T090000
END:STANDARD
END:VTIMEZONE
BEGIN:VEVENT
DTSTART;TZID=America/Los_Angeles:20251112T110000
DTEND;TZID=America/Los_Angeles:20251112T113000
DTSTAMP:20260419T074605
CREATED:20251029T213555Z
LAST-MODIFIED:20251117T185808Z
UID:3576-1762945200-1762947000@wsu.edu
SUMMARY:Title II Video Accessibility Compliance 101: What You Need to Know
DESCRIPTION:In this 30-minute session\, we will unpack the core components of the ruling and what it means for video accessibility. We’ll translate the legal language into clear\, actionable guidance so you will have clarity on what’s required. \nEvent information and registration \nThis training is part of 3PlayMedia’s Countdown to ADA Title II Compliance’ series\, which addresses video accessibility requirements.
URL:https://wsu.edu/digital-accessibility/event/title-ii-video-accessibility-compliance-101-what-you-need-to-know/
LOCATION:Webinar
CATEGORIES:Announcement
END:VEVENT
END:VCALENDAR