BEGIN:VCALENDAR
VERSION:2.0
PRODID:-//Digital Accessibility - ECPv5.9.0//NONSGML v1.0//EN
CALSCALE:GREGORIAN
METHOD:PUBLISH
X-WR-CALNAME:Digital Accessibility
X-ORIGINAL-URL:https://wsu.edu/digital-accessibility
X-WR-CALDESC:Events for Digital Accessibility
BEGIN:VTIMEZONE
TZID:America/Los_Angeles
BEGIN:DAYLIGHT
TZOFFSETFROM:-0800
TZOFFSETTO:-0700
TZNAME:PDT
DTSTART:20250309T100000
END:DAYLIGHT
BEGIN:STANDARD
TZOFFSETFROM:-0700
TZOFFSETTO:-0800
TZNAME:PST
DTSTART:20251102T090000
END:STANDARD
END:VTIMEZONE
BEGIN:VEVENT
DTSTART;TZID=America/Los_Angeles:20250313T110000
DTEND;TZID=America/Los_Angeles:20250313T120000
DTSTAMP:20260419T072626
CREATED:20250304T172048Z
LAST-MODIFIED:20251117T185809Z
UID:2740-1741863600-1741867200@wsu.edu
SUMMARY:Shifting Left: Strategizing Accessibility in Higher Education
DESCRIPTION:Learn important steps to developing\, implementing\, and sustaining an institution-wide accessibility strategy that meets the needs of all learners. \nWith the April 2026 implementation of web accessibility rules for Title II of the ADA right around the corner\, institutions of higher education are taking a closer look at how they address digital and other accessibility on their campuses. \nEvent information and registration
URL:https://wsu.edu/digital-accessibility/event/shifting-left-strategizing-accessibility-in-higher-education/
LOCATION:Webinar
CATEGORIES:Announcement
END:VEVENT
END:VCALENDAR