BEGIN:VCALENDAR
VERSION:2.0
PRODID:-//Digital Accessibility - ECPv5.9.0//NONSGML v1.0//EN
CALSCALE:GREGORIAN
METHOD:PUBLISH
X-WR-CALNAME:Digital Accessibility
X-ORIGINAL-URL:https://wsu.edu/digital-accessibility
X-WR-CALDESC:Events for Digital Accessibility
BEGIN:VTIMEZONE
TZID:America/Los_Angeles
BEGIN:DAYLIGHT
TZOFFSETFROM:-0800
TZOFFSETTO:-0700
TZNAME:PDT
DTSTART:20250309T100000
END:DAYLIGHT
BEGIN:STANDARD
TZOFFSETFROM:-0700
TZOFFSETTO:-0800
TZNAME:PST
DTSTART:20251102T090000
END:STANDARD
END:VTIMEZONE
BEGIN:VEVENT
DTSTART;TZID=America/Los_Angeles:20250130T110000
DTEND;TZID=America/Los_Angeles:20250130T120000
DTSTAMP:20260425T103200
CREATED:20250109T190855Z
LAST-MODIFIED:20251117T185809Z
UID:2528-1738234800-1738238400@wsu.edu
SUMMARY:Navigating DOJ Accessibility Rules: Practical Approaches for Higher Education
DESCRIPTION:Join WCET for an informative webcast that delves into the newly published Department of Justice (DOJ) accessibility rules\, finalized in April 2024 (view the factsheet). This session will equip higher education institutions with the essential knowledge and strategies needed to comply with the updated guidelines. \nEvent information and registration
URL:https://wsu.edu/digital-accessibility/event/navigating-doj-accessibility-rules-practical-approaches-for-higher-education/
LOCATION:Webinar
CATEGORIES:Announcement
END:VEVENT
END:VCALENDAR