BEGIN:VCALENDAR
VERSION:2.0
PRODID:-//Digital Accessibility - ECPv5.9.0//NONSGML v1.0//EN
CALSCALE:GREGORIAN
METHOD:PUBLISH
X-WR-CALNAME:Digital Accessibility
X-ORIGINAL-URL:https://wsu.edu/digital-accessibility
X-WR-CALDESC:Events for Digital Accessibility
BEGIN:VTIMEZONE
TZID:America/Los_Angeles
BEGIN:DAYLIGHT
TZOFFSETFROM:-0800
TZOFFSETTO:-0700
TZNAME:PDT
DTSTART:20250309T100000
END:DAYLIGHT
BEGIN:STANDARD
TZOFFSETFROM:-0700
TZOFFSETTO:-0800
TZNAME:PST
DTSTART:20251102T090000
END:STANDARD
END:VTIMEZONE
BEGIN:VEVENT
DTSTART;TZID=America/Los_Angeles:20250205T050000
DTEND;TZID=America/Los_Angeles:20250205T060000
DTSTAMP:20260420T092823
CREATED:20250127T154105Z
LAST-MODIFIED:20251117T185809Z
UID:2625-1738731600-1738735200@wsu.edu
SUMMARY:Introduction to Accessible PDFs
DESCRIPTION:Creating documents such as PDFs with digital accessibility in mind will help you ensure that your content can be read and understood by as wide an audience as possible. \nEvent information and registration
URL:https://wsu.edu/digital-accessibility/event/introduction-to-accessible-pdfs/
LOCATION:Webinar
CATEGORIES:Announcement
END:VEVENT
END:VCALENDAR