BEGIN:VCALENDAR
VERSION:2.0
PRODID:-//Digital Accessibility - ECPv5.9.0//NONSGML v1.0//EN
CALSCALE:GREGORIAN
METHOD:PUBLISH
X-WR-CALNAME:Digital Accessibility
X-ORIGINAL-URL:https://wsu.edu/digital-accessibility
X-WR-CALDESC:Events for Digital Accessibility
BEGIN:VTIMEZONE
TZID:America/Los_Angeles
BEGIN:DAYLIGHT
TZOFFSETFROM:-0800
TZOFFSETTO:-0700
TZNAME:PDT
DTSTART:20250309T100000
END:DAYLIGHT
BEGIN:STANDARD
TZOFFSETFROM:-0700
TZOFFSETTO:-0800
TZNAME:PST
DTSTART:20251102T090000
END:STANDARD
END:VTIMEZONE
BEGIN:VEVENT
DTSTART;TZID=America/Los_Angeles:20250305T100000
DTEND;TZID=America/Los_Angeles:20250305T110000
DTSTAMP:20260421T233432
CREATED:20250304T172512Z
LAST-MODIFIED:20251117T185809Z
UID:2742-1741168800-1741172400@wsu.edu
SUMMARY:Graphs & Charts: Meeting WCAG 2.2 Level AA Requirements
DESCRIPTION:Are you adding graphs or charts to your documents? \nIt is crucial to ensure that your charts\, such as bar charts\, line graphs\, and pie charts\, meet the necessary Color Contrast Requirements. This includes meeting the requirements for the use of color (WCAG 1.4.1)\, text contrast (WCAG 1.4.3)\, and non-text contrast (WCAG 1.4.11). All images will also need meaningful alternative text to be considered accessible. Join Rachel Reeves as we explore good and bad examples of bar charts\, pie charts\, line graphs\, and maps to learn how to design accessible graphs and charts. \nEvent information and calendar invite
URL:https://wsu.edu/digital-accessibility/event/graphs-charts-meeting-wcag-2-2-level-aa-requirements/
CATEGORIES:Announcement
END:VEVENT
END:VCALENDAR