BEGIN:VCALENDAR
VERSION:2.0
PRODID:-//Digital Accessibility - ECPv5.9.0//NONSGML v1.0//EN
CALSCALE:GREGORIAN
METHOD:PUBLISH
X-WR-CALNAME:Digital Accessibility
X-ORIGINAL-URL:https://wsu.edu/digital-accessibility
X-WR-CALDESC:Events for Digital Accessibility
BEGIN:VTIMEZONE
TZID:America/Los_Angeles
BEGIN:DAYLIGHT
TZOFFSETFROM:-0800
TZOFFSETTO:-0700
TZNAME:PDT
DTSTART:20240310T100000
END:DAYLIGHT
BEGIN:STANDARD
TZOFFSETFROM:-0700
TZOFFSETTO:-0800
TZNAME:PST
DTSTART:20241103T090000
END:STANDARD
END:VTIMEZONE
BEGIN:VEVENT
DTSTART;TZID=America/Los_Angeles:20241216T170000
DTEND;TZID=America/Los_Angeles:20241216T180000
DTSTAMP:20260421T070402
CREATED:20241206T041642Z
LAST-MODIFIED:20251117T185809Z
UID:2511-1734368400-1734372000@wsu.edu
SUMMARY:Accessibility Strategy and Goal-Setting Workshop
DESCRIPTION:Join us for an interactive workshop to plan your accessibility goals and strategy for 2025. Amber will walk attendees through the process of creating an accessibility remediation roadmap\, with recommendations for prioritizing fixes and creating a timeline. There will be time to create and refine your accessibility roadmap and an opportunity to share it and get feedback during the workshop. \nEvent and registration Information
URL:https://wsu.edu/digital-accessibility/event/accessibility-strategy-and-goal-setting-workshop/
LOCATION:Webinar
CATEGORIES:Announcement
END:VEVENT
END:VCALENDAR