BEGIN:VCALENDAR
VERSION:2.0
PRODID:-//Digital Accessibility - ECPv5.9.0//NONSGML v1.0//EN
CALSCALE:GREGORIAN
METHOD:PUBLISH
X-WR-CALNAME:Digital Accessibility
X-ORIGINAL-URL:https://wsu.edu/digital-accessibility
X-WR-CALDESC:Events for Digital Accessibility
BEGIN:VTIMEZONE
TZID:America/Los_Angeles
BEGIN:DAYLIGHT
TZOFFSETFROM:-0800
TZOFFSETTO:-0700
TZNAME:PDT
DTSTART:20250309T100000
END:DAYLIGHT
BEGIN:STANDARD
TZOFFSETFROM:-0700
TZOFFSETTO:-0800
TZNAME:PST
DTSTART:20251102T090000
END:STANDARD
END:VTIMEZONE
BEGIN:VEVENT
DTSTART;TZID=America/Los_Angeles:20251211T110000
DTEND;TZID=America/Los_Angeles:20251211T120000
DTSTAMP:20260424T032926
CREATED:20251201T183128Z
LAST-MODIFIED:20251204T180502Z
UID:3665-1765450800-1765454400@wsu.edu
SUMMARY:2025 U.S. Digital Accessibility Legal Update with Lainey Feingold
DESCRIPTION:3Play’s annual digital accessibility legal update with Lainey Feingold will offer an up-to-date overview of what is happening in the digital accessibility legal space in the United States as 2025 draws to a close. \nEvent information and registration
URL:https://wsu.edu/digital-accessibility/event/2025-u-s-digital-accessibility-legal-update-with-lainey-feingold/
LOCATION:Webinar
CATEGORIES:Announcement
END:VEVENT
END:VCALENDAR